BEGIN:VCALENDAR
VERSION:2.0
PRODID:-//TOMNET - ECPv6.15.20//NONSGML v1.0//EN
CALSCALE:GREGORIAN
METHOD:PUBLISH
X-ORIGINAL-URL:https://tomnet.org.au
X-WR-CALDESC:Events for TOMNET
REFRESH-INTERVAL;VALUE=DURATION:PT1H
X-Robots-Tag:noindex
X-PUBLISHED-TTL:PT1H
BEGIN:VTIMEZONE
TZID:Australia/Brisbane
BEGIN:STANDARD
TZOFFSETFROM:+1000
TZOFFSETTO:+1000
TZNAME:AEST
DTSTART:20240101T000000
END:STANDARD
END:VTIMEZONE
BEGIN:VEVENT
DTSTART;TZID=Australia/Brisbane:20250111T090000
DTEND;TZID=Australia/Brisbane:20250111T130000
DTSTAMP:20260425T212041
CREATED:20241218T015649Z
LAST-MODIFIED:20241218T015652Z
UID:10615-1736586000-1736600400@tomnet.org.au
SUMMARY:BMS Community Barbecue
DESCRIPTION:
URL:https://tomnet.org.au/event/bms-community-barbecue/
LOCATION:BMS Stenner St\, 450 Stenner St\, Darling Heights\, QLD\, 4350\, Australia
CATEGORIES:Barbecue Event
ORGANIZER;CN="TOMNET":MAILTO:admin@tomnet.org.au
END:VEVENT
BEGIN:VEVENT
DTSTART;TZID=Australia/Brisbane:20250111T090000
DTEND;TZID=Australia/Brisbane:20250111T130000
DTSTAMP:20260425T212041
CREATED:20241218T015649Z
LAST-MODIFIED:20241218T015652Z
UID:10615-1736586000-1736600400@tomnet.org.au
SUMMARY:BMS Community Barbecue
DESCRIPTION:
URL:https://tomnet.org.au/event/bms-community-barbecue/
LOCATION:BMS Stenner St\, 450 Stenner St\, Darling Heights\, QLD\, 4350\, Australia
CATEGORIES:Barbecue Event
ORGANIZER;CN="TOMNET":MAILTO:admin@tomnet.org.au
END:VEVENT
BEGIN:VEVENT
DTSTART;TZID=Australia/Brisbane:20250111T090000
DTEND;TZID=Australia/Brisbane:20250111T130000
DTSTAMP:20260425T212041
CREATED:20241218T015649Z
LAST-MODIFIED:20241218T015652Z
UID:10615-1736586000-1736600400@tomnet.org.au
SUMMARY:BMS Community Barbecue
DESCRIPTION:
URL:https://tomnet.org.au/event/bms-community-barbecue/
LOCATION:BMS Stenner St\, 450 Stenner St\, Darling Heights\, QLD\, 4350\, Australia
CATEGORIES:Barbecue Event
ORGANIZER;CN="TOMNET":MAILTO:admin@tomnet.org.au
END:VEVENT
BEGIN:VEVENT
DTSTART;TZID=Australia/Brisbane:20250516T100000
DTEND;TZID=Australia/Brisbane:20250516T123000
DTSTAMP:20260425T212041
CREATED:20250416T031620Z
LAST-MODIFIED:20250416T031806Z
UID:10663-1747389600-1747398600@tomnet.org.au
SUMMARY:Clifton Area Men's Group Barbecue
DESCRIPTION:
URL:https://tomnet.org.au/event/clifton-area-mens-group-barbecue/
LOCATION:Dabblers Clifton\, 97A King St\, Clifton\, QLD\, 4361\, Australia
CATEGORIES:Barbecue Event
ORGANIZER;CN="TOMNET":MAILTO:admin@tomnet.org.au
END:VEVENT
BEGIN:VEVENT
DTSTART;TZID=Australia/Brisbane:20250111T090000
DTEND;TZID=Australia/Brisbane:20250111T130000
DTSTAMP:20260425T212041
CREATED:20241218T015649Z
LAST-MODIFIED:20241218T015652Z
UID:10615-1736586000-1736600400@tomnet.org.au
SUMMARY:BMS Community Barbecue
DESCRIPTION:
URL:https://tomnet.org.au/event/bms-community-barbecue/
LOCATION:BMS Stenner St\, 450 Stenner St\, Darling Heights\, QLD\, 4350\, Australia
CATEGORIES:Barbecue Event
ORGANIZER;CN="TOMNET":MAILTO:admin@tomnet.org.au
END:VEVENT
BEGIN:VEVENT
DTSTART;TZID=Australia/Brisbane:20250111T090000
DTEND;TZID=Australia/Brisbane:20250111T130000
DTSTAMP:20260425T212041
CREATED:20241218T015649Z
LAST-MODIFIED:20241218T015652Z
UID:10615-1736586000-1736600400@tomnet.org.au
SUMMARY:BMS Community Barbecue
DESCRIPTION:
URL:https://tomnet.org.au/event/bms-community-barbecue/
LOCATION:BMS Stenner St\, 450 Stenner St\, Darling Heights\, QLD\, 4350\, Australia
CATEGORIES:Barbecue Event
ORGANIZER;CN="TOMNET":MAILTO:admin@tomnet.org.au
END:VEVENT
BEGIN:VEVENT
DTSTART;TZID=Australia/Brisbane:20250111T090000
DTEND;TZID=Australia/Brisbane:20250111T130000
DTSTAMP:20260425T212041
CREATED:20241218T015649Z
LAST-MODIFIED:20241218T015652Z
UID:10615-1736586000-1736600400@tomnet.org.au
SUMMARY:BMS Community Barbecue
DESCRIPTION:
URL:https://tomnet.org.au/event/bms-community-barbecue/
LOCATION:BMS Stenner St\, 450 Stenner St\, Darling Heights\, QLD\, 4350\, Australia
CATEGORIES:Barbecue Event
ORGANIZER;CN="TOMNET":MAILTO:admin@tomnet.org.au
END:VEVENT
BEGIN:VEVENT
DTSTART;TZID=Australia/Brisbane:20250111T090000
DTEND;TZID=Australia/Brisbane:20250111T130000
DTSTAMP:20260425T212041
CREATED:20241218T015649Z
LAST-MODIFIED:20241218T015652Z
UID:10615-1736586000-1736600400@tomnet.org.au
SUMMARY:BMS Community Barbecue
DESCRIPTION:
URL:https://tomnet.org.au/event/bms-community-barbecue/
LOCATION:BMS Stenner St\, 450 Stenner St\, Darling Heights\, QLD\, 4350\, Australia
CATEGORIES:Barbecue Event
ORGANIZER;CN="TOMNET":MAILTO:admin@tomnet.org.au
END:VEVENT
BEGIN:VEVENT
DTSTART;TZID=Australia/Brisbane:20250111T090000
DTEND;TZID=Australia/Brisbane:20250111T130000
DTSTAMP:20260425T212041
CREATED:20241218T015649Z
LAST-MODIFIED:20241218T015652Z
UID:10615-1736586000-1736600400@tomnet.org.au
SUMMARY:BMS Community Barbecue
DESCRIPTION:
URL:https://tomnet.org.au/event/bms-community-barbecue/
LOCATION:BMS Stenner St\, 450 Stenner St\, Darling Heights\, QLD\, 4350\, Australia
CATEGORIES:Barbecue Event
ORGANIZER;CN="TOMNET":MAILTO:admin@tomnet.org.au
END:VEVENT
END:VCALENDAR