BEGIN:VCALENDAR
VERSION:2.0
PRODID:-//TOMNET - ECPv5.0.2.1//NONSGML v1.0//EN
CALSCALE:GREGORIAN
METHOD:PUBLISH
X-WR-CALNAME:TOMNET
X-ORIGINAL-URL:http://tomnet.org.au
X-WR-CALDESC:Events for TOMNET
BEGIN:VTIMEZONE
TZID:Europe/Paris
BEGIN:DAYLIGHT
TZOFFSETFROM:+0100
TZOFFSETTO:+0200
TZNAME:CEST
DTSTART:20170326T010000
END:DAYLIGHT
BEGIN:STANDARD
TZOFFSETFROM:+0200
TZOFFSETTO:+0100
TZNAME:CET
DTSTART:20171029T010000
END:STANDARD
END:VTIMEZONE
BEGIN:VEVENT
DTSTART;TZID=Europe/Paris:20170227T140000
DTEND;TZID=Europe/Paris:20170227T150000
DTSTAMP:20200227T175529
CREATED:20161212T045006Z
LAST-MODIFIED:20191119T235852Z
UID:2141-1488204000-1488207600@tomnet.org.au
SUMMARY:Yukana Mens Meeting
DESCRIPTION:Volunteers and Members visit Yukana Retirement Village to talk and interact with male residents who are lonely and isolated. \n
URL:http://tomnet.org.au/event/yukana-mens-meeting/2017-02-27/
LOCATION:Yukana Retirement Village\, 258 Spring St\, Kearney Springs\, Qld\, 4350\, Australia
CATEGORIES:Aged Care Visiting
GEO:-27.5829487;151.8643252
X-APPLE-STRUCTURED-LOCATION;VALUE=URI;X-ADDRESS=Yukana Retirement Village 258 Spring St Kearney Springs Qld 4350 Australia;X-APPLE-RADIUS=500;X-TITLE=258 Spring St:geo:151.8643252,-27.5829487
END:VEVENT
END:VCALENDAR