BEGIN:VCALENDAR
VERSION:2.0
PRODID:-//TOMNET - ECPv5.0.2.1//NONSGML v1.0//EN
CALSCALE:GREGORIAN
METHOD:PUBLISH
X-WR-CALNAME:TOMNET
X-ORIGINAL-URL:http://tomnet.org.au
X-WR-CALDESC:Events for TOMNET
BEGIN:VTIMEZONE
TZID:Europe/Paris
BEGIN:DAYLIGHT
TZOFFSETFROM:+0100
TZOFFSETTO:+0200
TZNAME:CEST
DTSTART:20170326T010000
END:DAYLIGHT
BEGIN:STANDARD
TZOFFSETFROM:+0200
TZOFFSETTO:+0100
TZNAME:CET
DTSTART:20171029T010000
END:STANDARD
END:VTIMEZONE
BEGIN:VEVENT
DTSTART;TZID=Europe/Paris:20170111T130000
DTEND;TZID=Europe/Paris:20170111T150000
DTSTAMP:20200227T174017
CREATED:20161212T042032Z
LAST-MODIFIED:20161212T043509Z
UID:1850-1484139600-1484146800@tomnet.org.au
SUMMARY:TOMNET on WEDNESDAY
DESCRIPTION:TOMNET on Wednesday: \n1.00 p.m. until 3.00 p.m. every Wednesday at Gold Park\, located at 341 Hume St\, Toowoomba \n(entrance next to South Toowoomba Bowls Club) \n
URL:http://tomnet.org.au/event/tomnet-on-wednesday/2017-01-11/
LOCATION:Gold Park\, 341 Hume St\, Toowoomba\, Qld\, 4350\, Australia
CATEGORIES:Community Meetings,Member Activity
GEO:-27.5822108;151.9541115
X-APPLE-STRUCTURED-LOCATION;VALUE=URI;X-ADDRESS=Gold Park 341 Hume St Toowoomba Qld 4350 Australia;X-APPLE-RADIUS=500;X-TITLE=341 Hume St:geo:151.9541115,-27.5822108
END:VEVENT
END:VCALENDAR