BEGIN:VCALENDAR
VERSION:2.0
PRODID:-//TOMNET - ECPv5.0.2.1//NONSGML v1.0//EN
CALSCALE:GREGORIAN
METHOD:PUBLISH
X-WR-CALNAME:TOMNET
X-ORIGINAL-URL:http://tomnet.org.au
X-WR-CALDESC:Events for TOMNET
BEGIN:VTIMEZONE
TZID:Europe/Paris
BEGIN:DAYLIGHT
TZOFFSETFROM:+0100
TZOFFSETTO:+0200
TZNAME:CEST
DTSTART:20200329T010000
END:DAYLIGHT
BEGIN:STANDARD
TZOFFSETFROM:+0200
TZOFFSETTO:+0100
TZNAME:CET
DTSTART:20201025T010000
END:STANDARD
END:VTIMEZONE
BEGIN:VEVENT
DTSTART;TZID=Europe/Paris:20200228T093000
DTEND;TZID=Europe/Paris:20200228T110000
DTSTAMP:20200227T175709
CREATED:20161212T045147Z
LAST-MODIFIED:20200129T015357Z
UID:6453-1582882200-1582887600@tomnet.org.au
SUMMARY:TOMNET - Brodribb Retired Mens Meeting
DESCRIPTION:Volunteers and Members visit Brodribb Retirement Village to talk and interact with male residents who are lonely and isolated. \n
URL:http://tomnet.org.au/event/brodribb-mens-meeting/2020-02-28/
LOCATION:Brodribb Home\, Brodribb Street\, Toowoomba\, Qld\, 4350\, Australia
CATEGORIES:Aged Care Visiting
GEO:-27.5660036;151.9434825
X-APPLE-STRUCTURED-LOCATION;VALUE=URI;X-ADDRESS=Brodribb Home Brodribb Street Toowoomba Qld 4350 Australia;X-APPLE-RADIUS=500;X-TITLE=Brodribb Street:geo:151.9434825,-27.5660036
END:VEVENT
END:VCALENDAR